BEGIN:VCALENDAR
VERSION:2.0
PRODID:-//83.166.130.143//NONSGML kigkonsult.se iCalcreator 2.20//
CALSCALE:GREGORIAN
METHOD:PUBLISH
X-WR-TIMEZONE:UTC
BEGIN:VEVENT
UID:event51@Artskorps
DTSTAMP:20260419T115952Z
CATEGORIES: Party with Guest KBaL
DESCRIPTION:Lost in Sequence IV\nCatégorie:  Party with Guest KBaL\nLien: h
 ttps://artskorps.org/index.php?option=com_jem&view=event&id=51:lost-in-seq
 uence-iv\n
DTSTART:20081205T230000Z
DTEND:20081206T050000Z
LOCATION:Bazart\,Loosduinsekade 725\,2571 CZ  Den Haag
SUMMARY:Lost in Sequence IV
URL:https://artskorps.org/index.php?option=com_jem&view=event&id=51:lost-in
 -sequence-iv
END:VEVENT
END:VCALENDAR