BEGIN:VCALENDAR
VERSION:2.0
PRODID:-//83.166.130.143//NONSGML kigkonsult.se iCalcreator 2.20//
CALSCALE:GREGORIAN
METHOD:PUBLISH
X-WR-TIMEZONE:UTC
BEGIN:VEVENT
UID:event26@Artskorps
DTSTAMP:20260419T115952Z
CATEGORIES: Party with Guest KBaL
DESCRIPTION:Prspct XL7\nCatégorie:  Party with Guest KBaL\nLien: https://ar
 tskorps.org/index.php?option=com_jem&view=event&id=26:prspct-xl7\n
DTSTART:20080607T230000Z
DTEND:20080608T070000Z
LOCATION:Waterfront\,Boompjeskade 15\,3011 XE Rotterdam
SUMMARY:Prspct XL7
URL:https://artskorps.org/index.php?option=com_jem&view=event&id=26:prspct-
 xl7
END:VEVENT
END:VCALENDAR